BEGIN:VCALENDAR
VERSION:2.0
PRODID:-//Mobitech - Irrigation automation | Smart farming | Smart Irrigation - ECPv6.15.20//NONSGML v1.0//EN
CALSCALE:GREGORIAN
METHOD:PUBLISH
X-WR-CALNAME:Mobitech - Irrigation automation | Smart farming | Smart Irrigation
X-ORIGINAL-URL:https://mobitechwireless.in
X-WR-CALDESC:Events for Mobitech - Irrigation automation | Smart farming | Smart Irrigation
REFRESH-INTERVAL;VALUE=DURATION:PT1H
X-Robots-Tag:noindex
X-PUBLISHED-TTL:PT1H
BEGIN:VTIMEZONE
TZID:UTC
BEGIN:STANDARD
TZOFFSETFROM:+0000
TZOFFSETTO:+0000
TZNAME:UTC
DTSTART:20240101T000000
END:STANDARD
END:VTIMEZONE
BEGIN:VEVENT
DTSTART;TZID=UTC:20251219T090000
DTEND;TZID=UTC:20251221T170000
DTSTAMP:20260423T140520
CREATED:20251213T010219Z
LAST-MODIFIED:20260310T223617Z
UID:8153-1766134800-1766336400@mobitechwireless.in
SUMMARY:🌾 Erode Agri Expo 2025 🚜
DESCRIPTION:🗓️ Event Details \nDates:\n19\, 20 & 21 December 2025 \nLocation:\nTexvalley\, Bengaluru – Cochin National Highway\nChithode\, Erode\, Tamil Nadu \nEntry:\nENTRY FREE \n💻 Featured Exhibitor \nCompany:\nMobitech® Wireless Solution Pvt. Ltd. \nFocus Area:\nIrrigation Automation \nDiscover smart\, AI-powered solutions designed to improve water efficiency\, crop productivity\, and sustainable farming. \n📍 Visit us at:\nSTALL NO – A10
URL:https://mobitechwireless.in/event/%f0%9f%8c%be-erode-agri-expo-2025-%f0%9f%9a%9c/
LOCATION:erode
ATTACH;FMTTYPE=image/jpeg:https://mobitechwireless.in/wp-content/uploads/2025/12/tex.jpeg
END:VEVENT
BEGIN:VEVENT
DTSTART;TZID=UTC:20260105T090000
DTEND;TZID=UTC:20260106T043000
DTSTAMP:20260423T140520
CREATED:20260105T043133Z
LAST-MODIFIED:20260310T223611Z
UID:11175-1767603600-1767673800@mobitechwireless.in
SUMMARY:Agri Expo-2026
DESCRIPTION:Mobitech Wireless Solution proudly participated in Agri Expo 2026\, held at Sree Lakshmi Duraisamy Mahal\, Thindal. \nWe were honored by the visit of Central Government Agriculture Minister\, Mr. Shivraj Singh Chouhan\, to our stall. His interaction and appreciation reinforced our mission to bring smart\, AI-powered irrigation automation solutions to Indian farmers. \nEvent Highlights\n🌱 Showcased AI-powered Irrigation Automation Systems\n📡 Demonstrated smart water management & remote monitoring \n🤝 Engaged with farmers\, agri-experts\, and industry leaders \n🏛️ Special visit by Hon’ble Union Agriculture Minister \nStall Details\n\n\nStall No: 41 & 42 \n\n\nDate: January 5\, 2026 \n\n\nLocation: Sree Lakshmi Duraisamy Mahal\, Thindal \n\n\nOur Commitment\nAt Mobitech\, we are committed to: \n\n\nEfficient water usage \n\n\nIncreased crop productivity \n\n\nSustainable and smart farming practices \n\n\nEvents like Agri Expo help us connect directly with farmers and understand real-world agricultural challenges\, enabling us to deliver practical and reliable solutions. \n📞 Contact Us: +91 99434 30000📍 Solutions: Smart Irrigation | Automation | AI-Driven Farming
URL:https://mobitechwireless.in/event/agri-expo-2026/
LOCATION:erode
ATTACH;FMTTYPE=image/jpeg:https://mobitechwireless.in/wp-content/uploads/2026/01/jug.jpeg
END:VEVENT
BEGIN:VEVENT
DTSTART;TZID=UTC:20260108T080000
DTEND;TZID=UTC:20260108T170000
DTSTAMP:20260423T140520
CREATED:20260108T034905Z
LAST-MODIFIED:20260310T223606Z
UID:11878-1767859200-1767891600@mobitechwireless.in
SUMMARY:Umagine TN 2026
DESCRIPTION:🚀 Mobitech Wireless Solutions at Umagine TN 2026 \nMobitech Wireless Solutions proudly participated in Umagine TN 2026 (4th Edition)\, one of Tamil Nadu’s premier technology and innovation events\, held at the Chennai Trade Centre. \nUmagine TN brings together global innovators\, startups\, industry leaders\, policymakers\, and technology experts across multiple domains. The event also features the Tamil Nadu IT Pavilion\, highlighting key state-led digital and technology initiatives with strong international participation. \nAt Umagine TN 2026\, Mobitech Wireless Solutions showcased its smart irrigation automation and digital farming solutions\, demonstrating how advanced technology can enable: \nEfficient water management \nSustainable agricultural practices \nSmarter and data-driven farming solutions \nOur solutions aim to empower farmers with intelligent control systems that improve productivity while conserving resources 🌱📡 \n📅 Event Details \nDate: 08–09 January 2026 \nVenue: Chennai Trade Centre \nWe were delighted to connect with innovators\, industry experts\, and stakeholders who share our vision for a smarter and more sustainable agricultural future. \n📞 Contact: +91 99434 30000 \nInnovation that creates real impact.
URL:https://mobitechwireless.in/event/uimagine/
LOCATION:Chennai trade Centre\, Chennai Trade Centre\, Chennai\, India
ATTACH;FMTTYPE=image/jpeg:https://mobitechwireless.in/wp-content/uploads/2026/01/WhatsApp-Image-2026-01-08-at-12.47.12-PM.jpeg
END:VEVENT
BEGIN:VEVENT
DTSTART;TZID=UTC:20260314T080000
DTEND;TZID=UTC:20260314T170000
DTSTAMP:20260423T140520
CREATED:20260314T053926Z
LAST-MODIFIED:20260314T060550Z
UID:19812-1773475200-1773507600@mobitechwireless.in
SUMMARY:Gooty Fort Festival
DESCRIPTION:  \nGooty Fort Festival\nAt the Gooty Fort Festival\, our team proudly showcased advanced smart irrigation solutions designed to support modern agriculture. During the event\, we demonstrated both wired and wireless irrigation automation systems\, including controllers\, solenoid valves\, and mobile app–based farm management that allow farmers to monitor and control irrigation remotely. The stall attracted farmers\, agriculture officers\, and technology enthusiasts who were interested in learning how smart irrigation can help save water\, reduce manual work\, and improve crop productivity. Our team interacted directly with visitors\, explained the benefits of automation in farming\, and provided live demonstrations of how the system works in real field conditions. The event served as a great platform to connect with the farming community and promote sustainable\, technology-driven agriculture.
URL:https://mobitechwireless.in/event/gooty-fort-festival/
LOCATION:Anantapur\, Gooty\, Anantapur District\, AP
ATTACH;FMTTYPE=image/jpeg:https://mobitechwireless.in/wp-content/uploads/2026/03/anandhevent-scaled.jpg
END:VEVENT
BEGIN:VEVENT
DTSTART;TZID=UTC:20260317T080000
DTEND;TZID=UTC:20260317T170000
DTSTAMP:20260423T140520
CREATED:20260317T004757Z
LAST-MODIFIED:20260317T011353Z
UID:20026-1773734400-1773766800@mobitechwireless.in
SUMMARY:Stakeholder Workshop 2026
DESCRIPTION:Mobitech Wireless Solution Private Limited is proud to showcase how AI-powered Wireless Smart Irrigation is addressing today’s agricultural challenges and building a sustainable future for the sugarcane industry in South India. Our innovative solutions focus on precision fertigation and efficient water management\, helping farmers improve productivity while conserving resources. Visit our booth to experience the future of smart irrigation technology in action and discover how automation is transforming modern agriculture.
URL:https://mobitechwireless.in/event/stakeholder-workshop-2026/
LOCATION:ICAR Sugarcane Breeding Institute\, Coimbatore\, Tamil Nadu\, ICAR Sugarcane Breeding Institute\, Coimbatore\, Tamil Nadu\, India
ATTACH;FMTTYPE=image/jpeg:https://mobitechwireless.in/wp-content/uploads/2026/03/thum.jpeg
END:VEVENT
BEGIN:VEVENT
DTSTART;TZID=UTC:20260330T080000
DTEND;TZID=UTC:20260330T163000
DTSTAMP:20260423T140520
CREATED:20260330T065019Z
LAST-MODIFIED:20260330T072044Z
UID:21251-1774857600-1774888200@mobitechwireless.in
SUMMARY:TN Tech Connect 2026!
DESCRIPTION:TN Tech Connect 2026! 🎬✨\nWe had an incredible day at Kongu Engineering College (TBI Seminar Hall) celebrating the people who make it all happen. From our high-energy Sales force to our brilliant Technical architects\, today was all about recognizing excellence. 🤝 \nBuilding the future of tech requires a village\, and we’re lucky to have the best one in the business. Check out the highlights from our recognition ceremony! 📸👇 \n#TechConnect2026 #KECTBI #TeamAppreciation #SalesStars #TechExperts #Perundurai \n		\n			\n								\n\n					\n						\n					\n\n											\n															3\n															\n													\n									\n								\n\n					\n						\n					\n\n											\n															2\n															\n													\n									\n								\n\n					\n						\n					\n\n											\n															1\n															\n													\n									\n								\n\n					\n						\n					\n\n											\n															16\n															\n													\n									\n								\n\n					\n						\n					\n\n											\n															15\n															\n													\n									\n								\n\n					\n						\n					\n\n											\n															14\n															\n													\n									\n								\n\n					\n						\n					\n\n											\n															13\n															\n													\n									\n								\n\n					\n						\n					\n\n											\n															12\n															\n													\n									\n								\n\n					\n						\n					\n\n											\n															11\n															\n													\n									\n								\n\n					\n						\n					\n\n											\n															10\n															\n													\n									\n								\n\n					\n						\n					\n\n											\n															9\n															\n													\n									\n								\n\n					\n						\n					\n\n											\n															8\n															\n													\n									\n								\n\n					\n						\n					\n\n											\n															7\n															\n													\n									\n								\n\n					\n						\n					\n\n											\n															6\n															\n													\n									\n								\n\n					\n						\n					\n\n											\n															5\n															\n													\n									\n							\n		\n	\n🏆 Meet Our 2026 Award Winners\n\nBest Attendance Award: Mr. Viswanathan D\nBest Service Co-ordinator: Mr. Meiyalagan\nBest Hardware Service Engineer: Mr. Gowtham\nBest Sales Engineers: Mr. Yashvanthan & Mr. Soundaryaram\nBest Technical Engineers: Mr. Naresh & Mr. Gokul\nBest Commercial Backend Supporter: Ms. Danusiya\nBest Project Award: Mr. Karthikeyan & Mr. Suriya Prakash\nTarget Achievement Award: Zone 1\nBest Technical Team: Mr. Ajith Kumar & team
URL:https://mobitechwireless.in/event/tn-tech-connect-2026/
LOCATION:Kongu Engineering College\, KONGU ENGINEERING COLLEGE Perundurai\, Erode-638 060\, Tamilnadu\, India\, erode\, India
ATTACH;FMTTYPE=image/jpeg:https://mobitechwireless.in/wp-content/uploads/2026/03/WhatsApp-Image-2026-03-30-at-5.45.45-PM.jpeg
END:VEVENT
BEGIN:VEVENT
DTSTART;TZID=UTC:20260331T080000
DTEND;TZID=UTC:20260401T170000
DTSTAMP:20260423T140520
CREATED:20260310T223418Z
LAST-MODIFIED:20260310T230858Z
UID:18938-1774944000-1775062800@mobitechwireless.in
SUMMARY:Smart Irrigation Tech Summit 2026.
DESCRIPTION:Smart Irrigation Tech Summit 2026 \nWe are proud to invite farmers\, agriculture professionals\, and agri-technology enthusiasts to visit our stall at the Smart Irrigation Tech Summit 2026\, one of the largest agriculture technology events focused on irrigation innovation and sustainable farming. \nOur team will showcase advanced irrigation automation solutions designed to help farmers save water\, improve crop productivity\, and manage irrigation systems efficiently using smart technology.
URL:https://mobitechwireless.in/event/smart-irrigation-tech-summit-2026/
LOCATION:Haryana\, Tosham\, Bhiwani\, Haryana\, India
ATTACH;FMTTYPE=image/jpeg:https://mobitechwireless.in/wp-content/uploads/2026/03/eventnew.jpeg
END:VEVENT
END:VCALENDAR